BEGIN:VCALENDAR
VERSION:2.0
PRODID:-//Lifelab Integrated Wellness - ECPv6.15.20//NONSGML v1.0//EN
CALSCALE:GREGORIAN
METHOD:PUBLISH
X-WR-CALNAME:Lifelab Integrated Wellness
X-ORIGINAL-URL:https://lifelab.bio
X-WR-CALDESC:Events for Lifelab Integrated Wellness
REFRESH-INTERVAL;VALUE=DURATION:PT1H
X-Robots-Tag:noindex
X-PUBLISHED-TTL:PT1H
BEGIN:VTIMEZONE
TZID:Asia/Riyadh
BEGIN:STANDARD
TZOFFSETFROM:+0300
TZOFFSETTO:+0300
TZNAME:+03
DTSTART:20250101T000000
END:STANDARD
END:VTIMEZONE
BEGIN:VEVENT
DTSTART;TZID=Asia/Riyadh:20260411T100000
DTEND;TZID=Asia/Riyadh:20260517T190000
DTSTAMP:20260421T124100
CREATED:20260306T115148Z
LAST-MODIFIED:20260306T115302Z
UID:8515-1775901600-1779044400@lifelab.bio
SUMMARY:Rob Rea Daycation Retreat
DESCRIPTION:A premium\, co-ed day retreat built around breathwork\, movement\, connection\, and a guided sunset walk.  \nDate: Friday\, April 11 \nTime: 10:00am – 7:00pm \nLocation: The Enclave by LifeLab \nAge Limit: 16+ \nFormat: Mixed-gender throughout \nCapacity: 50 guests \n  \nPricing \n\n2\,000 SAR Early Bird\n2\,500 SAR Standard Price\n3\,000 SAR Last-Minute\n\n  \nWhat you’ll experience \n\nSignature Breathwork Journey with Rob Rea\nMasterclass + Live Q&A: practical breath tools for stress\, focus\, and recovery\nPremium “More Time with Rob”: small-group coaching circles (direct access\, not just a stage session)\nYoga Kick-Starter + Gratitude Wind-Down with Nitika Sharma (short\, intentional\, not a long yoga class)\nGuided Sunset Valley Walk for reflection and integration\n\n  \nYour Daycation Premium Pack (included) \n\nRob’s Take-Home Protocol Card: a simple 7-day routine (morning primer\, midday reset\, evening downshift)\nIntegration Worksheet: you’ll complete it on-site and leave with a personal plan you can actually follow\n\n  \nWhat to bring \n\nComfortable clothes for movement + a light layer\nWalking shoes for the valley walk\nOptional: your own water bottle\n\n  \nNotes for comfort & safety \nParticipation is always self-paced. If you have any medical concerns (especially cardiovascular conditions\, pregnancy\, epilepsy\, or severe anxiety/panic history)\, please consult your physician before intensive breathwork.
URL:https://lifelab.bio/event/rob-rea-daycation-retreat/
LOCATION:The Enclave\, FH84+FH\, Dahiat Namar\, Riyadh 14949\, Saudi Arabia\, Riyadh\, 12211\, Saudi Arabia
ATTACH;FMTTYPE=image/png:https://lifelab.bio/wp-content/uploads/2026/02/Wellness-Rob-Landscape.png
ORGANIZER;CN="LifeLab":MAILTO:business@lifelab.bio
END:VEVENT
END:VCALENDAR